BEGIN:VCALENDAR
VERSION:2.0
PRODID:-//wp-events-plugin.com//5.99912//EN
TZID:Europe/Berlin
X-WR-TIMEZONE:Europe/Berlin
BEGIN:VEVENT
UID:0-354@balingen.albverein.eu
DTSTART;TZID=Europe/Berlin:20260501T103000
DTEND;TZID=Europe/Berlin:20260501T180000
DTSTAMP:20260407T152654Z
URL:https://balingen.albverein.eu/events/von-der-nebelhoehle-zum-schloss-l
 ichtenstein-2/
SUMMARY:Von der Nebelhöhle zum Schloss Lichtenstein
DESCRIPTION:Auf dem Premiumwanderweg "Hochgehträumt"\n\nTreffpunkt: um 10.
 00 Uhr am Ewaldhaus in Balingen\, Hindenburgstr. 40.\nAnschliessend Fahrt 
 mit Privat-Pkw bis zum Parkplatz an der Nebelhöhle.\nHier beginnt unsere 
 Wanderung zunächst bis zum Gießstein und weiter über den Linsenbühl zu
 m Schloss Lichtenstein. Dort besteht die Möglichkeit zu einer Besichtigun
 g oder auf einen Kaffee mit Kuchen.\n\nDanach geht es dann wieder zurück\
 , an einem Steinbruch vorbei\, über den dortigen Feldberg. Im Anschluss k
 ann die Nebelhöhle noch besichtigt werden.\n\nTeilweise ist der Weg rutsc
 hig. Deshalb ist gute Trittsicherheit erforderlich. Wanderstöcke werden e
 mpfohlen. Es besteht auch die Möglichkeit\, die Gesamtstrecke um etwa 2 K
 ilometer abzukürzen.\n\nWanderstrecke: ca. 11 Kilometer\nAufstieg: ca. 22
 0 Höhenmeter\nEs ist eine Einkehr geplant.\nFahrkostenbeteiligung für Mi
 tfahrer: 10\,- Euro\nAnmeldung: bei Peter Eiler\, Tel. 0170 149 2776\nAnme
 ldeschluss: Donnerstag\, 30. April\, nachmittags\n\nGäste sind - wie imme
 r - herzlich willkommen bei uns. Wir freuen uns darauf!\n\n&nbsp\;
END:VEVENT
BEGIN:VTIMEZONE
TZID:Europe/Berlin
X-LIC-LOCATION:Europe/Berlin
BEGIN:DAYLIGHT
DTSTART:20260329T030000
TZOFFSETFROM:+0100
TZOFFSETTO:+0200
TZNAME:CEST
END:DAYLIGHT
END:VTIMEZONE
END:VCALENDAR